BEGIN:VCALENDAR
VERSION:2.0
PRODID:-//Peach New Media//Web Event Information//EN
METHOD:REQUEST
BEGIN:VEVENT
UID:20260421T042854-448046987@peachnewmedia.com
DTSTAMP:20260421T042854
DTSTART:20260324T170000Z
DURATION:PT60M
SUMMARY:LIVE REPLAY: Cybersecurity Breaches: How to Advise Clients When the Inevitable Happens (Live Audio Streaming
DESCRIPTION: Click here for a full description of this event: http://isb.fastcle.com/store/seminar/seminar.php?seminar=212784
ORGANIZER;CN=Idaho State Bar:MAILTO:noreply@peachnewmedia.com
END:VEVENT
END:VCALENDAR
