BEGIN:VCALENDAR
VERSION:2.0
PRODID:-//Peach New Media//Web Event Information//EN
METHOD:REQUEST
BEGIN:VEVENT
UID:20260424T101122-1830313445@peachnewmedia.com
DTSTAMP:20260424T101122
DTSTART:20260508T143000Z
DURATION:PT480M
SUMMARY:LIVE EVENT: 2026 Annual Workers Compensation Seminar (Boise)
DESCRIPTION: Click here for a full description of this event: http://isb.fastcle.com/store/seminar/seminar.php?seminar=213402
ORGANIZER;CN=Idaho State Bar:MAILTO:noreply@peachnewmedia.com
END:VEVENT
END:VCALENDAR
