BEGIN:VCALENDAR
VERSION:2.0
PRODID:-//Peach New Media//Web Event Information//EN
METHOD:REQUEST
BEGIN:VEVENT
UID:20260424T044542-682288014@peachnewmedia.com
DTSTAMP:20260424T044542
DTSTART:20260605T170000Z
DURATION:PT60M
SUMMARY:LIVE REPLAY: Lawyer Ethics and Email (Live Audio Streaming)
DESCRIPTION: Click here for a full description of this event: http://isb.fastcle.com/store/seminar/seminar.php?seminar=214317
ORGANIZER;CN=Idaho State Bar:MAILTO:noreply@peachnewmedia.com
END:VEVENT
END:VCALENDAR
